BEGIN:VCALENDAR
PRODID:NingEventWidget-v1
VERSION:2.0
METHOD:PUBLISH
BEGIN:VEVENT
UID:5167423:Event:62511
DTSTAMP:20260423T070643Z
SUMMARY:Storytelling by Kristin Pedemonti
DESCRIPTION:Award Winning International Storyteller Speaker & Author K
 ristin Pedemonti unpacks her heart and shares Traditional & True stori
 es from her adventures around the world. YES, she will probably bring 
 her Big Wheel and YES you can ride it, too! (Reservations Suggested–
  610.432.4200 x 14)\n\nFOR MORE INFO PLEASE GO TO: http://americaonwh
 eels.org/\n\nFor more information visit https://northeastwheelsevents.
 com/events/storytelling-by-kristin-pedemonti
DTSTART:20141213T160000Z
DTEND:20141213T170000Z
CATEGORIES:holiday, exhibit, family, kids, events, trains, museum
LOCATION:America On Wheels Museum
WEBSITE:http://americaonwheels.org/
URL:http://americaonwheels.org/
CONTACT:610-432-4200
ORGANIZER;CN="America On Wheels Museum":https://northeastwheelsevents.
 com/profile/americaonwheels
ATTACH;FMTTYPE="image/jpeg":http://storage.ning.com/topology/rest/1.0/
 file/get/2284064982?profile=original
ATTENDEE;ROLE=REQ-PARTICIPANT;PARTSTAT=ACCEPTED;RSVP=TRUE;CN="America 
 On Wheels Museum":https://northeastwheelsevents.com/profile/americaonw
 heels
END:VEVENT
END:VCALENDAR
