BEGIN:VCALENDAR
PRODID:NingEventWidget-v1
VERSION:2.0
METHOD:PUBLISH
BEGIN:VEVENT
UID:5167423:Event:64256
DTSTAMP:20260419T100925Z
SUMMARY:Studebaker York Swap Meet
DESCRIPTION:Studebaker York Swap Meet\nMarch 05 to March 07, 2015\n\n\
 n\nThe Studebaker York Swap Meet is the original and longest running A
 LL-STUDEBAKER swap meet in the world. 2015 marks our 42nd continuous y
 ear. The meet is family friendly and features most any Studebaker part
  one may need, a large community craft show, autos for sale, both stoc
 k and modified cars on display, and best of all these events are free 
 There is also a flower and garden show running at the Expo center that
  offers additional opportunities for the ladies not interested in cars
  or crafts to occupy themselves. That event is not part of the SYSM an
 d there is an admission charge. There are vendor spaces still availabl
 e for the SYSM. Contact Bob Sheaffer at 717-341-3141 for information, 
 or go to our website www.sdckeystoneregion.com. We are also offering a
  raffle car, a 1951 Studebaker Landcruiser. Tickets are $10.00 and les
 s than 1000 remain to be sold as of 1/15/15. Second prize is $2000.00 
 cash. Winners will be drawn at the meet on Saturday March 7th at 2pm. 
 Winners need not be present. You may call the raffle car chair, Gordon
  Kertzel at 717-574-1529 for ticket information or go to the website t
 o order. Pictures are also available for viewing on the website. Pleas
 e join us for this exciting and fun pre-spring event at the York Expo 
 Center 334 Carlisle Ave. York,PA.17404\nSponsor: Keystone Region Chapt
 er,Inc. Studebaker Driver's Club When: March 05, 2015 3/ 5/1512pm-5pm.
  6th 8am-5pm, 7th 8am-2pm Location:\nYork Expo Center 334 Carlisle ave
 . York, Pa 17404York PA, 17404\nCost: Free parking, free admission to 
 two heated buildings,auction Friday ev.with free food and drinks To Re
 gister: Click here for more information or call Robert Sheaffer at 717
 -341-3141 or call Gordon F. Kertzel,111 at 717-574-1529 or e-mail us 
  \n\nFor more information visit https://northeastwheelsevents.com/eve
 nts/studebaker-york-swap-meet
DTSTART:20150305T230000Z
DTEND:20150308T000000Z
CATEGORIES:studebaker, swap, meet
LOCATION:York Expo Center 334 Carlisle ave. York, Pa 17404
WEBSITE:http://www.sdckeystoneregion.com/
URL:http://www.sdckeystoneregion.com/
CONTACT:
ORGANIZER;CN="Jeff Sheaffer":https://northeastwheelsevents.com/profile
 /JeffSheaffer
ATTACH;FMTTYPE="image/jpeg":
ATTENDEE;ROLE=REQ-PARTICIPANT;PARTSTAT=ACCEPTED;RSVP=TRUE;CN="Jeff She
 affer":https://northeastwheelsevents.com/profile/JeffSheaffer
END:VEVENT
END:VCALENDAR
