BEGIN:VCALENDAR
PRODID:NingEventWidget-v1
VERSION:2.0
METHOD:PUBLISH
BEGIN:VEVENT
UID:5167423:Event:68300
DTSTAMP:20260421T005636Z
SUMMARY:SuBeLex Car Show Open
DESCRIPTION:\n\nFor more information visit https://northeastwheelseven
 ts.com/events/subelex-car-show-open
DTSTART:20150613T140000Z
DTEND:20150613T200000Z
CATEGORIES:"fundraiser/education/awareness"
LOCATION:Perry County Fairgrounds, Newport Pa
WEBSITE:https://www.facebook.com/pages/SuBeLex/363005213940?ref=aymt_h
 omepage_panel
URL:https://www.facebook.com/pages/SuBeLex/363005213940?ref=aymt_homep
 age_panel
CONTACT:717-789-4539
ORGANIZER;CN="Haley N Darr":https://northeastwheelsevents.com/profile/
 HaleyNDarr
ATTACH;FMTTYPE="image/jpeg":
ATTENDEE;ROLE=REQ-PARTICIPANT;PARTSTAT=ACCEPTED;RSVP=TRUE;CN="Haley N 
 Darr":https://northeastwheelsevents.com/profile/HaleyNDarr
END:VEVENT
END:VCALENDAR
