BEGIN:VCALENDAR
PRODID:NingEventWidget-v1
VERSION:2.0
METHOD:PUBLISH
BEGIN:VEVENT
UID:5167423:Event:46057
DTSTAMP:20260423T231233Z
SUMMARY:SuBeLex Festival and Car Show Open
DESCRIPTION:Subelex in a not for profit that raises the awareness of t
 he dangers of drunk driving and promotes the use of a designated drive
 r. We are hosting the 7th Annual Subelex Festival and Car Show Open, (
 2nd year for car show). We would like to invite you all to come out to
  the show on 6/14/14 at the Perry County Fairgrounds in Newport Pa. R
 egistration $10.00 day of event, all day music, flea market, food vend
 ers, Pa DUI Memorial Wall, Kids Activities and much more. For car show
  details, visit the SuBeLex page on Facebook.\n\nFor more information
  visit https://northeastwheelsevents.com/events/subelex-festival-and-c
 ar-show-open
DTSTART:20140614T123000Z
DTEND:20140614T190000Z
CATEGORIES:"fundraiser/", raise, awareness
LOCATION:Perry County Fairgrounds
WEBSITE:http://visit SuBeLex on Facebook
URL:http://visit SuBeLex on Facebook
CONTACT:717-789-4539
ORGANIZER;CN="Haley N Darr":https://northeastwheelsevents.com/profile/
 HaleyNDarr
ATTACH;FMTTYPE="image/jpeg":http://storage.ning.com/topology/rest/1.0/
 file/get/2284060289?profile=original
ATTENDEE;ROLE=REQ-PARTICIPANT;PARTSTAT=ACCEPTED;RSVP=TRUE;CN="Haley N 
 Darr":https://northeastwheelsevents.com/profile/HaleyNDarr
ATTENDEE;ROLE=REQ-PARTICIPANT;PARTSTAT=TENTATIVE;RSVP=TRUE;CN="Gregory
  A Seibel":https://northeastwheelsevents.com/profile/GregoryASeibel
END:VEVENT
END:VCALENDAR
