BEGIN:VCALENDAR
PRODID:NingEventWidget-v1
VERSION:2.0
METHOD:PUBLISH
BEGIN:VEVENT
UID:5167423:Event:265212
DTSTAMP:20260425T154330Z
SUMMARY:Suffern Hose and Hooks Shine and Dine Night
DESCRIPTION:Come out and support the Suffern Hose and Hook and Ladder 
 companies on September 30th from 5:00pm to 7:00pm by bringing down you
 r car, jeep or truck and showing it off on Lafayette Avenue in Suffern
 , NY. After show off your vehicle enjoy the amazing cuisine Suffer has
  to offer.\n\nFor more information visit https://northeastwheelsevents
 .com/events/suffern-hose-and-hooks-shine-and-dine-night
DTSTART:20200930T213000Z
DTEND:20200930T230000Z
CATEGORIES:car, show, fundraiser
LOCATION:Lafayette Avenue
WEBSITE:
URL:
CONTACT:
ORGANIZER;CN="Greg Berkowitz":https://northeastwheelsevents.com/profil
 e/GregBerkowitz
ATTACH;FMTTYPE="image/jpeg":https://storage.ning.com/topology/rest/1.0
 /file/get/7875355052?profile=original
ATTENDEE;ROLE=REQ-PARTICIPANT;PARTSTAT=ACCEPTED;RSVP=TRUE;CN="Greg Ber
 kowitz":https://northeastwheelsevents.com/profile/GregBerkowitz
END:VEVENT
END:VCALENDAR
