BEGIN:VCALENDAR
PRODID:NingEventWidget-v1
VERSION:2.0
METHOD:PUBLISH
BEGIN:VEVENT
UID:5167423:Event:37324
DTSTAMP:20260423T195601Z
SUMMARY:Sugarloaf Mountain Region AACA 44th  Annual Antique Auto Swap 
 Meet
DESCRIPTION:To All Auto Enthusiasts:\n \nThe Sugarloaf Mountain Regio
 n, AACA (Antique Automobile Club of America) is sponsoring the\n \n
 44th ANNUAL INDOOR/OUTDOOR ANTIQUE AUTO PARTS MEET”\n \nMarch 28 &
  29, 2014\nEach year this event generates hundreds of vendors selling,
  swapping and trading antique auto, motorcycle,\nstreet rod and custom
  auto parts, services and restoration supplies, tools and equipment fo
 r commercial and\nnovice hobbyists.  Most vendors will educate you on
  your restoration and give valuable info on where to find\noriginal pa
 rts and supplies to complete your project.  As the end of winter appr
 oaches and the start of auto\nracing, restoration, cruising, and modif
 ications to the existing car, truck or motorcycle gets underway, this 
 show\nbrings all levels of automotive enthusiasts, hobbyists and begin
 ners to the Carroll Co Ag Center located\n in Westminster, Maryland.\
 n \nNo charge admission or parking serves as an incentive to see the 
 quality of this show.  Thousands of enthusiasts attend this two-day e
 vent every year.  Doors open at 8am Friday and Saturday, runs until ?
  both days.\n \nWhat else is at our show?\n**1 Huge enclosed building
 , packed with vendors (convenient if we have rain or snow) all heated\
 n**Parking lots full of outdoor vendors\n**Auto corral of cars, trucks
  and motorcycles for sale.  Pre-register Thursday before the show dat
 e or day of show.\n**AACA souvenir items will be on display for sale
 T-shirts, sweats, ties, pins, hats, and more—to benefit the AACA Li
 brary which is located in Hershey, Pennsylvania, and is open to the pu
 blic.\n**Overnight parking available to vendors and out-of-towners.  
 Hook-ups billed separately.\n**Food and plenty of it, prepared by the 
 Sugarloaf Mountain Region members, including breakfast, lunch, soups a
 nd desserts.\n**Membership is available.  Ask any of the 200 SMR memb
 ers at the show how you and your family can join.\n \nThanks for your
  support and please contact me with any questions you may have.\nRober
 t Clubb, Chairman\n301-829-2000 Phone\n240-372-7825 Cell\n301-428-0084
  Fax\nEmail:  smraaca@aol.com\n\nFor more information visit https://n
 ortheastwheelsevents.com/events/sugarloaf-mountain-region-aaca-44th-an
 nual-antique-auto-swap-meet
DTSTART:20140328T040000Z
DTEND:20140330T035900Z
CATEGORIES:swap, meet
LOCATION:Carroll County Ag Center
WEBSITE:http://www.sugarloafmountainaaca.org
URL:http://www.sugarloafmountainaaca.org
CONTACT:301-829-2000
ORGANIZER:SMR
ATTACH;FMTTYPE="image/jpeg":http://storage.ning.com/topology/rest/1.0/
 file/get/2284054978?profile=original
ATTENDEE;ROLE=REQ-PARTICIPANT;PARTSTAT=ACCEPTED;RSVP=TRUE;CN="Dean Tur
 ner":https://northeastwheelsevents.com/profile/DeanTurner
ATTENDEE;ROLE=REQ-PARTICIPANT;PARTSTAT=ACCEPTED;RSVP=TRUE;CN="Bob Huff
 ":https://northeastwheelsevents.com/profile/BobHuff
ATTENDEE;ROLE=REQ-PARTICIPANT;PARTSTAT=ACCEPTED;RSVP=TRUE;CN="Robert C
 lubb":https://northeastwheelsevents.com/profile/RobertClubb
END:VEVENT
END:VCALENDAR
