BEGIN:VCALENDAR
PRODID:NingEventWidget-v1
VERSION:2.0
METHOD:PUBLISH
BEGIN:VEVENT
UID:5167423:Event:285245
DTSTAMP:20260419T201317Z
SUMMARY:Sugarloaf Mountain Region of AACA Parts and Swap Meet
DESCRIPTION:Indoor and Out - Over 100 Vendors selling everything autom
 otive. Friday, 8 to 4 and Saturday 8 to 2. FACE MASKS ARE MANDATORY.. 
 Free Parking. $2.00 Admission plus Service Vendors including Restorers
 , Suppliers and Manufacturers. Rain or Shine\n\nFor more information v
 isit https://northeastwheelsevents.com/events/sugarloaf-mountain-regio
 n-of-aaca-parts-and-swap-meet
DTSTART:20210326T040000Z
DTEND:20210328T035900Z
CATEGORIES:"everything automobile", -, antique, and, newer, auto, part
 s
LOCATION:Two Days Friday and Saturday. 8 to 4 and 8 to 2 on Saturday
WEBSITE:http://FaceBook  SMRAACA
URL:http://FaceBook  SMRAACA
CONTACT:301-674-5431
ORGANIZER:Jack Gallagher
ATTACH;FMTTYPE="image/jpeg":
ATTENDEE;ROLE=REQ-PARTICIPANT;PARTSTAT=ACCEPTED;RSVP=TRUE;CN="Robert C
 lubb":https://northeastwheelsevents.com/profile/RobertClubb
END:VEVENT
END:VCALENDAR
