BEGIN:VCALENDAR
PRODID:NingEventWidget-v1
VERSION:2.0
METHOD:PUBLISH
BEGIN:VEVENT
UID:5167423:Event:239216
DTSTAMP:20260422T172254Z
SUMMARY:Summer Celebration At the AACA Museum
DESCRIPTION:We are looking forward to a SUMMER CELEBRATION on the beau
 tiful grounds of the AACA Museum, Inc., in Hershey, PA.   Join us for
  this fun-filled day of festivities including:\n\nCar-Bus-Motorcycle S
 how where all makes, models, and years welcome!\n\nVendor booths – c
 ar parts, novelty items & more\n50/50 drawing\nTethered hot air balloo
 n rides\nEntertainment\nValve Cover Racing\n2nd Chance Auction with lo
 ts of automotive items up for bid\nCar Corral with vehicles for sale b
 y owners\nFood Trucks . . . & More!\nValve Cover Racing: Sign up for t
 he Valve Cover Racing!\nPractice all day until 12:00 PM – then race
  against other guests.\nWhat’s a valve cover race?Think Pine Wood de
 rby for automotive enthusiasts. Take your favorite valve cover, add wh
 eels, and go racing. Is a Buick straight 8 valve cover faster than a C
 hevy, Studebaker, Ford, Chrysler or flat head side cover? Bring yours 
 to the Car Show and find out. If you do not have a valve cover to race
 , we have valve covers available to borrow! Ladies and Gentlemen, “S
 TART – YOUR -GRAVITY!!”\n\n\nTethered Hot Air Balloon Rides – Fl
 oat up in the air while tethered to the ground for a glimpse of the to
 wn of Hershey and Hersheypark from above the trees.   Tethered rides
  will be available for $15 per person.  Hot Air Balloons are weather 
 permitting and are not able to operate in windy or rainy conditions. T
 ethered hot air balloon rides will be available from 10:00 AM to 12:0
 0 PM.\n\n\nFor more information visit https://northeastwheelsevents.co
 m/events/summer-celebration-at-the-aaca-museum
DTSTART:20190615T130000Z
DTEND:20190615T180000Z
CATEGORIES:car, show
LOCATION:AACA Museum
WEBSITE:http://www.aacamuseum.org
URL:http://www.aacamuseum.org
CONTACT:717 566-7100
ORGANIZER:AACA Museum
ATTACH;FMTTYPE="image/jpeg":https://storage.ning.com/topology/rest/1.0
 /file/get/1254855442?profile=original
ATTENDEE;ROLE=REQ-PARTICIPANT;PARTSTAT=ACCEPTED;RSVP=TRUE;CN="Car Show
 s Little Helper":https://northeastwheelsevents.com/profile/CarShowsLit
 tleHelper
END:VEVENT
END:VCALENDAR
