BEGIN:VCALENDAR
PRODID:NingEventWidget-v1
VERSION:2.0
METHOD:PUBLISH
BEGIN:VEVENT
UID:5167423:Event:313410
DTSTAMP:20260425T221018Z
SUMMARY:Sundaes on Sundays
DESCRIPTION:Cruise In hosted by Susquehanna Valley Camaro Club and Sco
 op's Ice Cream and Grille.\nFrom 1-3 PM Every fourth Sunday from April
  through October\nApril 23, May 28, June 25, July 23, Aug. 27, Sept. 
 24, Oct. 22\nHave lunch of just a Sundae\nMiniature Golf with group di
 scounts at Boulders Minigolf\n\nFor more information visit https://nor
 theastwheelsevents.com/events/sundaes-on-sundays
DTSTART:20230423T170000Z
DTEND:20230423T190000Z
CATEGORIES:cruise, in
LOCATION:Scoops Ice Cream and Grille
WEBSITE:https://www.scoopsgrille.com
URL:https://www.scoopsgrille.com
CONTACT:7174196525
ORGANIZER;CN="Ken Hoshauer":https://northeastwheelsevents.com/profile/
 KenHoshauer990
ATTACH;FMTTYPE="image/jpeg":
ATTENDEE;ROLE=REQ-PARTICIPANT;PARTSTAT=ACCEPTED;RSVP=TRUE;CN="Ken Hosh
 auer":https://northeastwheelsevents.com/profile/KenHoshauer990
END:VEVENT
END:VCALENDAR
