BEGIN:VCALENDAR
PRODID:NingEventWidget-v1
VERSION:2.0
METHOD:PUBLISH
BEGIN:VEVENT
UID:5167423:Event:143487
DTSTAMP:20260420T133805Z
SUMMARY:Sunoco Race Fuels Money Trail ET Series #8 + 30th Annual June 
 Bug Classic
DESCRIPTION:\n\nFor more information visit https://northeastwheelseven
 ts.com/events/sunoco-race-fuels-money-trail-et-series-8-30th-annual-ju
 ne-bug
DTSTART:20170604T040000Z
DTEND:20170605T035900Z
CATEGORIES:race
LOCATION:Maple Grove Raceway
WEBSITE:http://www.maplegroveraceway.com/
URL:http://www.maplegroveraceway.com/
CONTACT:(610) 856-9200
ORGANIZER:
ATTACH;FMTTYPE="image/jpeg":http://storage.ning.com/topology/rest/1.0/
 file/get/2284094598?profile=original
ATTENDEE;ROLE=REQ-PARTICIPANT;PARTSTAT=ACCEPTED;RSVP=TRUE;CN="Christop
 her Gosney":https://northeastwheelsevents.com/profile/ChristopherGosne
 y
END:VEVENT
END:VCALENDAR
