BEGIN:VCALENDAR
PRODID:NingEventWidget-v1
VERSION:2.0
METHOD:PUBLISH
BEGIN:VEVENT
UID:5167423:Event:143475
DTSTAMP:20260420T114742Z
SUMMARY:Sunoco Race Fuels Money Trail Series Race #4 + EFI Source Inde
 x Series #2 + King of the Street
DESCRIPTION:\n\nFor more information visit https://northeastwheelseven
 ts.com/events/sunoco-race-fuels-money-trail-series-race-4-efi-source-i
 ndex
DTSTART:20170513T040000Z
DTEND:20170514T035900Z
CATEGORIES:race
LOCATION:Maple Grove Raceway
WEBSITE:http://www.maplegroveraceway.com/
URL:http://www.maplegroveraceway.com/
CONTACT:(610) 856-9200
ORGANIZER:
ATTACH;FMTTYPE="image/jpeg":http://storage.ning.com/topology/rest/1.0/
 file/get/2284094598?profile=original
ATTENDEE;ROLE=REQ-PARTICIPANT;PARTSTAT=ACCEPTED;RSVP=TRUE;CN="Christop
 her Gosney":https://northeastwheelsevents.com/profile/ChristopherGosne
 y
END:VEVENT
END:VCALENDAR
