BEGIN:VCALENDAR
PRODID:NingEventWidget-v1
VERSION:2.0
METHOD:PUBLISH
BEGIN:VEVENT
UID:5167423:Event:337298
DTSTAMP:20260420T005006Z
SUMMARY:SUPER BOWL SUNDAY HO SLOT CAR SHOW
DESCRIPTION:Bob Beer presents: One of the largest slot car specific sh
 ows in the US! 60 vendor tables full of new and vintage HO scale cars,
  parts, sets, and accessories for racers and collectors. Also some lar
 ger scale slots, along with other assorted model/slot merchandise.\r\n
 An annual show running over 34 years with an average of 400 happy atte
 ndees!\r\nEarly admission @ 7 am $20, regular admission @ 10 am $5, ki
 ds under 10 free. Come early for best deals - buy, sell, trade - meet 
 up with friends old and new in the hobby, say hello to vendors from al
 l over the area. Dealer table prices- paid in advance: $65, at the sho
 w: $75. Helpers: $20.\r\nEasy to find - LIE RT495 exit 49 south, or So
 uthern State Parkway exit 32 north. Enter through back of Hotel! Pleas
 e check the website for show flyer and vendor information. Open Rain, 
 snow or shine, plan accordingly! \r\nRemember: Once a year on Superbo
 wl Sunday! \n\nFor more information visit https://northeastwheelseven
 ts.com/events/super-bowl-sunday-ho-slot-car-show
DTSTART:20250209T150000Z
DTEND:20250209T190000Z
CATEGORIES:slotcars
LOCATION:Huntington Hilton Hotel
WEBSITE:https://allevents.in/melville/bob-beers-ho-cars-super-bowl-sho
 w/200027735921251
URL:https://allevents.in/melville/bob-beers-ho-cars-super-bowl-show/20
 0027735921251
CONTACT:888-251-3619
ORGANIZER:Bob Beers
ATTACH;FMTTYPE="image/jpeg":https://storage.ning.com/topology/rest/1.0
 /file/get/13434133269?profile=original
ATTENDEE;ROLE=REQ-PARTICIPANT;PARTSTAT=ACCEPTED;RSVP=TRUE;CN="William 
 Bruce":https://northeastwheelsevents.com/profile/WilliamBruce
ATTENDEE;ROLE=REQ-PARTICIPANT;PARTSTAT=ACCEPTED;RSVP=TRUE;CN="John DeF
 abio":https://northeastwheelsevents.com/profile/JohnDeFabio
END:VEVENT
END:VCALENDAR
