BEGIN:VCALENDAR
PRODID:NingEventWidget-v1
VERSION:2.0
METHOD:PUBLISH
BEGIN:VEVENT
UID:5167423:Event:100179
DTSTAMP:20260425T154531Z
SUMMARY:SUPER BOWL SUNDAY SLOT CAR SHOW
DESCRIPTION:One of the largest slot car specific shows in the US! 60 v
 endor tables full of new and vintage HO scale cars, parts, sets, and a
 ccessories for racers and collectors. Also some larger scale slots, al
 ong with other assorted model/slot merchandise.\nAn annual show runnin
 g over 25 years with an average of 400 happy attendees!\nEarly admissi
 on @ 7 am $20, regular admission @ 10 am $5, kids under 10 free. Come 
 early - buy, sell, trade - meet up with friends old and new in the hob
 by, say hello to vendors from all over the area. Easy to find - LIE RT
 495 exit 49 south, or Southern State Parkway exit 32 north. Please che
 ck the website for show flyer and vendor information.\n\nFor more info
 rmation visit https://northeastwheelsevents.com/events/super-bowl-sund
 ay-slot-car-show
DTSTART:20160207T150000Z
DTEND:20160207T190000Z
CATEGORIES:slotcars
LOCATION:Huntington Hilton Hotel
WEBSITE:http://auroraslotcarsbobbeers.com
URL:http://auroraslotcarsbobbeers.com
CONTACT:
ORGANIZER:Bob Beers
ATTACH;FMTTYPE="image/jpeg":
ATTENDEE;ROLE=REQ-PARTICIPANT;PARTSTAT=ACCEPTED;RSVP=TRUE;CN="Ernie Fi
 namore":https://northeastwheelsevents.com/profile/SixtyfiveFord
END:VEVENT
END:VCALENDAR
