BEGIN:VCALENDAR
PRODID:NingEventWidget-v1
VERSION:2.0
METHOD:PUBLISH
BEGIN:VEVENT
UID:5167423:Event:62697
DTSTAMP:20260423T084631Z
SUMMARY:Super Sunday Collectors Toy Show  Shrewsbury, PA
DESCRIPTION:2015 Collectors Toy Show Sunday February 1, 2015\n\nShrew
 sbury Vol Fire Co. Community Hall\n\nAdmission (12 yrs & older $3.00)
 \n\nFree parking\n\nFood Available \n\nFor more information visit htt
 ps://northeastwheelsevents.com/events/super-sunday-collectors-toy-show
 -shrewsbury-pa
DTSTART:20150201T140000Z
DTEND:20150201T183000Z
CATEGORIES:scale, model, "&", toy, show
LOCATION:Shrewsbury, Pennsylvania
WEBSITE:
URL:
CONTACT:717-764-5411
ORGANIZER:Carl Daehnke
ATTACH;FMTTYPE="image/jpeg":
ATTENDEE;ROLE=REQ-PARTICIPANT;PARTSTAT=ACCEPTED;RSVP=TRUE;CN="Joe Gola
 biewski":https://northeastwheelsevents.com/profile/JoeGolabiewski
END:VEVENT
END:VCALENDAR
