BEGIN:VCALENDAR
PRODID:NingEventWidget-v1
VERSION:2.0
METHOD:PUBLISH
BEGIN:VEVENT
UID:5167423:Event:99218
DTSTAMP:20260425T140108Z
SUMMARY:Super Sunday Collectors Toy Show
DESCRIPTION:PLEASE READ THE FOLLOWING NOTIFICATIO:  There will be no 
 portable sales or outdoor sales permitted, please do not carry in cont
 ainers of models if you are not a registered dealer at this event. Sho
 w partons keep in mind, without dealers this show is not possible, the
 refore, the show manager will do whatever is necessary to protect the 
 dealers at this event from unscrupulous psuedo dealers who invade a sh
 ow and conduct unautherized sales without remitting the required deale
 r table fees and worst of all, not possessing a valid state sales tax 
 number.\nAdmission $3 per person. Under 12 free\nTable reservation $22
 . Extra tables $22 \n2 tables and 2 reservations $40.\nAll tables 6 f
 t.  Dealer set up 7:30-9:00\nValid PA Sales Tax Number Required.  Lo
 cal Tax Dept: 130 N. Duke St, York, PA 17401 Att: Lucille Brenneman 71
 7 845-6661\nMake checks available to Carl A. Daehnke, 1698 Lilac Rd, Y
 ork PA 17408\n\nFor more information visit https://northeastwheelseven
 ts.com/events/super-sunday-collectors-toy-show
DTSTART:20160207T140000Z
DTEND:20160207T183000Z
CATEGORIES:toy, show
LOCATION:Shrewsbury Fire Hall
WEBSITE:
URL:
CONTACT:717 764-5411
ORGANIZER:Carl A. Daehnke and Joe Golabiewski
ATTACH;FMTTYPE="image/jpeg":http://storage.ning.com/topology/rest/1.0/
 file/get/2147102733?profile=original
ATTENDEE;ROLE=REQ-PARTICIPANT;PARTSTAT=ACCEPTED;RSVP=TRUE;CN="Pamela H
 irschhorn":https://northeastwheelsevents.com/profile/PamelaHirschhorn
END:VEVENT
END:VCALENDAR
