BEGIN:VCALENDAR
PRODID:NingEventWidget-v1
VERSION:2.0
METHOD:PUBLISH
BEGIN:VEVENT
UID:5167423:Event:159598
DTSTAMP:20260425T173523Z
SUMMARY:Supercars Mille for MS car show
DESCRIPTION:Supercars On State Street has joined with the Mille for MS
  to become Supercars on State Street/Mille for MS. The traditional exo
 tics show takes place in downtown Harrisburg Saturday September 23 201
 7, as in previous years. Car registration on City Island is from 9-11 
 and the show will run till 5 pm. Pre-registration strongly encouraged.
 \n \nThe Mille for MS road rally will depart that same morning at 6:3
 0 am from Sun Motor Cars Porsche on Carlisle Pike for laps at the Poco
 no racetrack, returning to the Capitol building in Harrisburg around n
 oon.\n \nCocktail reception and Naked Garage (exotic cars exposed on 
 lifts) event at Sun Motors Porsche Friday evening 6-9 pm September 22.
 \n \nFor full details and link to register:\n \nhttp://www.supercars
 onstatestreet.com\n\nFor more information visit https://northeastwheel
 sevents.com/events/supercars-mille-for-ms-car-show
DTSTART:20170923T150000Z
DTEND:20170923T210000Z
CATEGORIES:car, show, and, road, rally
LOCATION:State and Second Streets, Harrisburg PA
WEBSITE:http://supercarsmilleforms.com
URL:http://supercarsmilleforms.com
CONTACT:
ORGANIZER:Scott Garner/National MS Society
ATTACH;FMTTYPE="image/jpeg":http://storage.ning.com/topology/rest/1.0/
 file/get/2284100050?profile=original
ATTENDEE;ROLE=REQ-PARTICIPANT;PARTSTAT=ACCEPTED;RSVP=TRUE;CN="Anne Wai
 n":https://northeastwheelsevents.com/profile/AnneWain
END:VEVENT
END:VCALENDAR
