BEGIN:VCALENDAR
PRODID:NingEventWidget-v1
VERSION:2.0
METHOD:PUBLISH
BEGIN:VEVENT
UID:5167423:Event:20976
DTSTAMP:20260424T145856Z
SUMMARY:SUSQ Autocross #3 - HB Farm Show
DESCRIPTION:Susquehanna Region SCCA is hosting an autocross at the Har
 risburg Farm Show parking lot. Entry is $35 online (+10 if not SCCA me
 mber) or $45 the day of. For more info see our website and sign up at 
 MyAutoEvents.com\n\nFor more information visit https://northeastwheels
 events.com/events/susq-autocross-3-hb-farm-show
DTSTART:20130602T120000Z
DTEND:20130602T200000Z
CATEGORIES:autocross
LOCATION:Harrisburg Farm Show
WEBSITE:http://www.scca-susq.com
URL:http://www.scca-susq.com
CONTACT:
ORGANIZER:Susquehanna Region SCCA
ATTACH;FMTTYPE="image/jpeg":
ATTENDEE;ROLE=REQ-PARTICIPANT;PARTSTAT=ACCEPTED;RSVP=TRUE;CN="Susqueha
 nna SCCA":https://northeastwheelsevents.com/profile/ChrisPaveglio
END:VEVENT
END:VCALENDAR
