BEGIN:VCALENDAR
PRODID:NingEventWidget-v1
VERSION:2.0
METHOD:PUBLISH
BEGIN:VEVENT
UID:5167423:Event:24361
DTSTAMP:20260421T194207Z
SUMMARY:SUSQ Autocross - Farm Show
DESCRIPTION:Susquehanna Region SCCA is hosting an autocross at the Har
 risburg Farm Show parking lot. DOUBLE HEADER! 2 Events, 1 Day. Entry i
 s $35 online (+10 if not SCCA member) or $45 the day of (for each even
 t). For more info see our website and sign up at MyAutoEvents.com\n\nF
 or more information visit https://northeastwheelsevents.com/events/sus
 q-autocross-farm-show
DTSTART:20130707T100000Z
DTEND:20130707T210000Z
CATEGORIES:autocross
LOCATION:Harrisburg Farm Show
WEBSITE:http://www.scca-susq.com
URL:http://www.scca-susq.com
CONTACT:
ORGANIZER;CN="Susquehanna SCCA":https://northeastwheelsevents.com/prof
 ile/ChrisPaveglio
ATTACH;FMTTYPE="image/jpeg":http://storage.ning.com/topology/rest/1.0/
 file/get/2146910489?profile=original
ATTENDEE;ROLE=REQ-PARTICIPANT;PARTSTAT=ACCEPTED;RSVP=TRUE;CN="Susqueha
 nna SCCA":https://northeastwheelsevents.com/profile/ChrisPaveglio
END:VEVENT
END:VCALENDAR
