BEGIN:VCALENDAR
PRODID:NingEventWidget-v1
VERSION:2.0
METHOD:PUBLISH
BEGIN:VEVENT
UID:5167423:Event:20979
DTSTAMP:20260422T073013Z
SUMMARY:SUSQ Autocross - Hershey Giant Center
DESCRIPTION:The Susquehanna Region SCCA is hosting an autocross at the
  Hershey Giant's Center west side lot. This is slightly smaller than o
 ur main Hersheypark lot and the Farm Show lot. Online registration at 
 www.MyAutoEvents.com is $35 (+10 for non-SCCA members) or $45 on-site.
  See our website for more information\n\nFor more information visit ht
 tps://northeastwheelsevents.com/events/susq-autocross-hershey-giant-ce
 nter
DTSTART:20130630T120000Z
DTEND:20130630T200000Z
CATEGORIES:autocross
LOCATION:Hershey Giant Center
WEBSITE:http://www.scca-susq.com
URL:http://www.scca-susq.com
CONTACT:
ORGANIZER:Susquehanna Region SCCA
ATTACH;FMTTYPE="image/jpeg":http://storage.ning.com/topology/rest/1.0/
 file/get/2284050592?profile=original
ATTENDEE;ROLE=REQ-PARTICIPANT;PARTSTAT=ACCEPTED;RSVP=TRUE;CN="Susqueha
 nna SCCA":https://northeastwheelsevents.com/profile/ChrisPaveglio
END:VEVENT
END:VCALENDAR
