BEGIN:VCALENDAR
PRODID:NingEventWidget-v1
VERSION:2.0
METHOD:PUBLISH
BEGIN:VEVENT
UID:5167423:Event:62515
DTSTAMP:20260423T015920Z
SUMMARY:Sweet Surprise Day
DESCRIPTION:Sweet Surprise Day in the HubCap Café. Frost and decorate
  inverted sugar cones to create a Christmas tree forest. (Reservations
  Suggested – 610.432.4200 x 14)\n\nFOR MORE INFO PLEASE GO TO: http
 ://americaonwheels.org/\n\nFor more information visit https://northeas
 twheelsevents.com/events/sweet-surprise-day
DTSTART:20141214T180000Z
DTEND:20141214T210000Z
CATEGORIES:holiday, exhibit, events, family, kids, fun, trains, museum
LOCATION:America On Wheels Museum
WEBSITE:http://americaonwheels.org/
URL:http://americaonwheels.org/
CONTACT:610-432-4200
ORGANIZER;CN="America On Wheels Museum":https://northeastwheelsevents.
 com/profile/americaonwheels
ATTACH;FMTTYPE="image/jpeg":http://storage.ning.com/topology/rest/1.0/
 file/get/2284064886?profile=original
ATTENDEE;ROLE=REQ-PARTICIPANT;PARTSTAT=ACCEPTED;RSVP=TRUE;CN="America 
 On Wheels Museum":https://northeastwheelsevents.com/profile/americaonw
 heels
END:VEVENT
END:VCALENDAR
