BEGIN:VCALENDAR
PRODID:NingEventWidget-v1
VERSION:2.0
METHOD:PUBLISH
BEGIN:VEVENT
UID:5167423:Event:282724
DTSTAMP:20260419T220023Z
SUMMARY:Syndicate Society's 2021 Season Opener
DESCRIPTION:Syndicate Society's 2021 Season Opener! Hosted at the Macu
 ngie Memorial Park. This location was a hot spot for a lot of events i
 n 2020, so we'd figure we would get permission from the land owners to
  give it a try! It will be time to wash the dust, salt, or grime off o
 ur vehicles as this is the first weekend of spring!\n\nWe are hoping t
 o bring out a few vendors out such as Apex Road Rally (who is supporti
 ng a Charity to the Multiple Sclerosis Foundation) and coordinate with
  other groups as well.\n\nWe will also be setting up a tent with a don
 ation box for the park\n\nAs always, please be respectful to the groun
 ds we are at. No revving, no excessively loud music, no burnouts. Plea
 se be respectful to others and their cars, and let's keep this event k
 id friendly as well!\n\nCheck out our Facebook page for more details!\
 n\nFor more information visit https://northeastwheelsevents.com/events
 /syndicate-society-s-2021-season-opener
DTSTART:20210321T153000Z
DTEND:20210321T190000Z
CATEGORIES:charity, event, car, "show/meet", "&amp", greet
LOCATION:SteelStacks
WEBSITE:https://www.google.com/maps/place/Macungie+Memorial+Park,+50+P
 oplar+St,+Macungie,+PA+18062/@40.5160813,-75.5503058,17z/data=!4m6!1m3
 !3m2!1s0x89c42fe9cb4c7375:0x671b4fc8c2a394e6!2sMacungie+Memorial+Park,
 +50+Poplar+St,+Macungie,+PA+18062!3m1!1s0x89c42fe9cb4c7375:0x671b4fc8c
 2a394e6
URL:https://www.google.com/maps/place/Macungie+Memorial+Park,+50+Popla
 r+St,+Macungie,+PA+18062/@40.5160813,-75.5503058,17z/data=!4m6!1m3!3m2
 !1s0x89c42fe9cb4c7375:0x671b4fc8c2a394e6!2sMacungie+Memorial+Park,+50+
 Poplar+St,+Macungie,+PA+18062!3m1!1s0x89c42fe9cb4c7375:0x671b4fc8c2a39
 4e6
CONTACT:
ORGANIZER;CN="Syndicate Society":https://northeastwheelsevents.com/pro
 file/SyndicateSociety
ATTACH;FMTTYPE="image/jpeg":
ATTENDEE;ROLE=REQ-PARTICIPANT;PARTSTAT=ACCEPTED;RSVP=TRUE;CN="Syndicat
 e Society":https://northeastwheelsevents.com/profile/SyndicateSociety
END:VEVENT
END:VCALENDAR
