BEGIN:VCALENDAR
PRODID:NingEventWidget-v1
VERSION:2.0
METHOD:PUBLISH
BEGIN:VEVENT
UID:5167423:Event:17900
DTSTAMP:20260424T182055Z
SUMMARY:Taconic State Nationals Car Show -Pleasant Valley, NY
DESCRIPTION:\n\n\n\n\n\n\nSunday June 2, 2013 8:00 AM - 4:00 PM 122 F
 reedom rd. Pleasant Valley, NY 12569  \n2013 3rd. Annual Taconic Stat
 e Nationals - Sunday, June 2nd. at James Baird State Park. Trophies, d
 ash plaques, food, music, vendors and entertainment. $20 registration 
 fee. Suggested $5 spectator donation to benefit \"Pitch For Kids\" , a
  Hudson Valley Renegades charity.\n\n\n\n\nFor more information visit 
 https://northeastwheelsevents.com/events/taconic-state-nationals-car-s
 how-pleasant-valley-ny
DTSTART:20130602T120000Z
DTEND:20130602T200000Z
CATEGORIES:car-show
LOCATION:James Baird State Park
WEBSITE:
URL:
CONTACT:520-991-5292, 914-489-0686
ORGANIZER:JNR Restorations
ATTACH;FMTTYPE="image/jpeg":
ATTENDEE;ROLE=REQ-PARTICIPANT;PARTSTAT=ACCEPTED;RSVP=TRUE;CN="Michael 
 Thies":https://northeastwheelsevents.com/profile/MichaelThies
END:VEVENT
END:VCALENDAR
