BEGIN:VCALENDAR
PRODID:NingEventWidget-v1
VERSION:2.0
METHOD:PUBLISH
BEGIN:VEVENT
UID:5167423:Event:194211
DTSTAMP:20260424T214120Z
SUMMARY:Taconic State Nationals Pleasant Valley, NY
DESCRIPTION:We've moved our Taconic State Nationals to September this 
 year\n\nFor more information visit https://northeastwheelsevents.com/e
 vents/taconic-state-nationals-pleasant-valley-ny
DTSTART:20180923T120000Z
DTEND:20180923T190000Z
CATEGORIES:car, show
LOCATION:James Baird State Park
WEBSITE:https://www.facebook.com/events/1734756206606442/
URL:https://www.facebook.com/events/1734756206606442/
CONTACT:
ORGANIZER:Embalmers Car Club
ATTACH;FMTTYPE="image/jpeg":http://storage.ning.com/topology/rest/1.0/
 file/get/2284108046?profile=original
ATTENDEE;ROLE=REQ-PARTICIPANT;PARTSTAT=ACCEPTED;RSVP=TRUE;CN="Car Show
 s Little Helper":https://northeastwheelsevents.com/profile/CarShowsLit
 tleHelper
END:VEVENT
END:VCALENDAR
