BEGIN:VCALENDAR
PRODID:NingEventWidget-v1
VERSION:2.0
METHOD:PUBLISH
BEGIN:VEVENT
UID:5167423:Event:159212
DTSTAMP:20260422T200846Z
SUMMARY:\"Taste of Britain\" by Lanco MG Club
DESCRIPTION:All British Car & Motorcycle show in conjunction with regu
 lation polo match presented by the Lancaster Polo Club and a visiting 
 team. Registration opens at 11:00 a.m. Non-judged show. Polo match beg
 ins at 2:30. Food vendor on site. Tailgating welcomed!\n$15 / car (2 p
 ersons) through August 19, $20 thereafter. Visit www.lancomgclub.com f
 or registration form.\nPlease note: if you car coming just to view the
  car show many entrants leave prior to 3:00 p.m. and do not stay for t
 he polo match.\n\nFor more information visit https://northeastwheelsev
 ents.com/events/taste-of-britain-by-lanco-mg-club
DTSTART:20170827T143000Z
DTEND:20170827T210000Z
CATEGORIES:british, car, show
LOCATION:Forney Field, Rothsville, PA (note Lititz P.O. address)
WEBSITE:https://www.bing.com/maps?&amp;ty=18&amp;q=70%20Church%20St%2c
 %20Lititz%2c%20PA%2017543&amp;ppois=40.1485442798671_-76.2500913317995
 _70%20Church%20St%2c%20Lititz%2c%20PA%2017543_~&amp;cp=40.148544279867
 1~-76.2500913317995&amp;v=2&amp;sV=1&amp;FORM=MIRE&amp;qpvt=70+church+
 st%2c+rothsville%2c+pa&amp;style=r&amp;trfc=&amp;lvl=15
URL:https://www.bing.com/maps?&amp;ty=18&amp;q=70%20Church%20St%2c%20L
 ititz%2c%20PA%2017543&amp;ppois=40.1485442798671_-76.2500913317995_70%
 20Church%20St%2c%20Lititz%2c%20PA%2017543_~&amp;cp=40.1485442798671~-7
 6.2500913317995&amp;v=2&amp;sV=1&amp;FORM=MIRE&amp;qpvt=70+church+st%2
 c+rothsville%2c+pa&amp;style=r&amp;trfc=&amp;lvl=15
CONTACT:(717) 285-7379
ORGANIZER:Larry Ciarrocca
ATTACH;FMTTYPE="image/jpeg":http://storage.ning.com/topology/rest/1.0/
 file/get/2284100027?profile=original
ATTENDEE;ROLE=REQ-PARTICIPANT;PARTSTAT=ACCEPTED;RSVP=TRUE;CN="Dennis B
 levins":https://northeastwheelsevents.com/profile/DennisBlevins
END:VEVENT
END:VCALENDAR
