BEGIN:VCALENDAR
PRODID:NingEventWidget-v1
VERSION:2.0
METHOD:PUBLISH
BEGIN:VEVENT
UID:5167423:Event:143969
DTSTAMP:20260423T122513Z
SUMMARY:Test	   &	   Tune
DESCRIPTION:$20   Calcutta   Race   \n\nFor more information 
 visit https://northeastwheelsevents.com/events/test-tune-8
DTSTART:20170402T040000Z
DTEND:20170403T035900Z
CATEGORIES:race
LOCATION:South Mountain Raceway
WEBSITE:http://www.southmountainraceway.com/
URL:http://www.southmountainraceway.com/
CONTACT:717–323–0210
ORGANIZER:
ATTACH;FMTTYPE="image/jpeg":http://storage.ning.com/topology/rest/1.0/
 file/get/2284096679?profile=original
ATTENDEE;ROLE=REQ-PARTICIPANT;PARTSTAT=ACCEPTED;RSVP=TRUE;CN="Christop
 her Gosney":https://northeastwheelsevents.com/profile/ChristopherGosne
 y
END:VEVENT
END:VCALENDAR
