BEGIN:VCALENDAR
PRODID:NingEventWidget-v1
VERSION:2.0
METHOD:PUBLISH
BEGIN:VEVENT
UID:5167423:Event:247338
DTSTAMP:20260422T205140Z
SUMMARY:th Annual Haldeman Ford Car Show presented by Berks County Mus
 tang Car Club
DESCRIPTION:All proceeds benefit Juvenile Diabetes Research Fund.  La
 st year we raised $2,000.00 for JDRF. Lets do it again this year!   
 \nOpen to all makes and models of cars, motorcycles and trucks.  21+ 
 Awards.  Open Classes.\n\nDash plaques & goodie bags for the first 10
 0 cars\nDoor prizes\nChinese Auction\n50/50\n$10 Pre-register – $15 
 Day of show\nRain or Shine\n\n\nIf you have not registered for this sh
 ow you can do so online by June 10 here:\nhttps://berkscountymustangca
 rclub.com/store/haldeman-pre-register\n\nYou canalso download the regi
 stration form here:\nhttps://berkscountymustangcarclub.com/downloads?d
 ownload=29:haldeman-registration-2019\n\n\nFor more information, visit
  our website or find us on Facebookwww.berkscountymustangcarclub.com\n
 \nFor more information visit https://northeastwheelsevents.com/events/
 th-annual-haldeman-ford-car-show-presented-by-berks-county
DTSTART:20190615T130000Z
DTEND:20190615T170000Z
CATEGORIES:car, show
LOCATION:Haldeman Ford of Kutztown
WEBSITE:https://www.berkscountymustangcarclub.com/
URL:https://www.berkscountymustangcarclub.com/
CONTACT:
ORGANIZER:Berks County Mustang Car Club, Inc.
ATTACH;FMTTYPE="image/jpeg":
ATTENDEE;ROLE=REQ-PARTICIPANT;PARTSTAT=ACCEPTED;RSVP=TRUE;CN="Donald H
 ughmanick":https://northeastwheelsevents.com/profile/DonaldHughmanick
END:VEVENT
END:VCALENDAR
