BEGIN:VCALENDAR
PRODID:NingEventWidget-v1
VERSION:2.0
METHOD:PUBLISH
BEGIN:VEVENT
UID:5167423:Event:1012
DTSTAMP:20260422T211107Z
SUMMARY:The 17th Annual Great Pottsville Cruise Pottsville, Pennsylvan
 ia
DESCRIPTION:5-Day Event, Northeast PA's Largest Rolling Cruise held on
  Sunday, August 8th, Staging 10-4pm, Live Bands, Trophies, Flea Market
  and Vendors. Sponsored by The Pottsville Lions Club Charities.\nhttp:
 //www.thegreatpottsvillecruise.com/ events\n10 miles of cruisin’ thr
 ough the city\n$10.00 Cruise Permit covers all events\nDennis Gage say
 s “One to put on your list!”\nABSOLUTELY NO ALCOHOL!\n\nWednesday,
  August 4th\nCruise into Maroons Sports Bar & Grill\nFrom 6pm to 9 pm.
  556 N. Centre St.\n\nThursday, August 5th\nGeneration X Sound Off & C
 ar Show\nYorkville Coney Island parking lot, 6pm to 9 pm\nSponsored by
  Yorkville Coney Island\nJudged by 12 - Volt Dave’s Audio\n\nThursda
 y, August 5th\nGeneration X Sound Off & Car Show\nYorkville Coney Isla
 nd parking lot, 6pm to 9 pm\nSponsored by Yorkville Coney Island\nJudg
 ed by 12 - Volt Dave’s Audio\n\nFRIDAY, AUGUST 6th - 9:00 PM to 12:0
 0 AM\nTrophies and Gifts for the Best Dressed\nJitterbug & Twist Conte
 st\nFor tickets, call (570) 622-9510 or (570) 628-4561\n$10.00 per per
 son - includes snacks\nTickets available at door.\nTicket Outlets - Je
 rry’s N.E. Auto Sales and 12 Volt Dave’s Audio,\nPine View Acres &
  VIST Bank Route 61, Schuylkill Haven\nSaturday, August 7th\n394 South
  Centre Street, Pottsville\nRe-live the 50’s and 60’s.\nFrom 10 AM
  to 4 PM. Parking Available\nRefreshments - Live Radio & D.J.\n\nFor m
 ore information visit https://northeastwheelsevents.com/events/the-17t
 h-annual-great
DTSTART:20100804T220000Z
DTEND:20100807T230000Z
CATEGORIES:the, pottsville, lions, club, "charities."
LOCATION:Pottsville, Pennsylvania
WEBSITE:http://www.TheGreatPottsvilleCruise.com
URL:http://www.TheGreatPottsvilleCruise.com
CONTACT:570-527-1006
ORGANIZER:TheGreatPottsvilleCruise.
ATTACH;FMTTYPE="image/jpeg":http://storage.ning.com/topology/rest/1.0/
 file/get/2284047406?profile=original
ATTENDEE;ROLE=REQ-PARTICIPANT;PARTSTAT=ACCEPTED;RSVP=TRUE;CN="Richard 
 Scott":https://northeastwheelsevents.com/profile/RichardScott
END:VEVENT
END:VCALENDAR
