BEGIN:VCALENDAR
PRODID:NingEventWidget-v1
VERSION:2.0
METHOD:PUBLISH
BEGIN:VEVENT
UID:5167423:Event:137040
DTSTAMP:20260424T155953Z
SUMMARY:The 2016 Food Drive (Charity Road Rally) November 19 Pre Reg R
 equired
DESCRIPTION:Registration ends in 5 days on November 17, 2016 5:00 PM
  EST\nThis charity road rally will take you through some amazing back
  roads in Bucks, Northampton, and Hunterdon Counties just in time to 
 put you in the spirit of giving.  Just as we did in 2012, 2014 and 20
 15, your entry fee will be 5 donation-appropriate food items.\nThis 
 year's beneficiary will be the Bucks County Housing Group.\n\n\nFor m
 ore information visit https://northeastwheelsevents.com/events/the-201
 6-food-drive-charity-road-rally-november-19-pre-reg-requir
DTSTART:20161119T144500Z
DTEND:20161119T220000Z
CATEGORIES:road, rally
LOCATION:Line Road Shopping Center
WEBSITE:http://www.phillyscca.com
URL:http://www.phillyscca.com
CONTACT:Jonathan Love   mbs627@gmail.com
ORGANIZER:SCCA - Philadelphia Region
ATTACH;FMTTYPE="image/jpeg":http://storage.ning.com/topology/rest/1.0/
 file/get/2284090724?profile=original
ATTENDEE;ROLE=REQ-PARTICIPANT;PARTSTAT=ACCEPTED;RSVP=TRUE;CN="Pamela H
 irschhorn":https://northeastwheelsevents.com/profile/PamelaHirschhorn
END:VEVENT
END:VCALENDAR
