BEGIN:VCALENDAR
PRODID:NingEventWidget-v1
VERSION:2.0
METHOD:PUBLISH
BEGIN:VEVENT
UID:5167423:Event:727
DTSTAMP:20260423T001655Z
SUMMARY:The 27th Annual Car Show \"ROCKIN’ IN THE PARK  Lee Center, 
 NY
DESCRIPTION:Hundreds of participants bring their beautifully maintaine
 d pieces of art to Lee Town Park for a day of fun with the entire fami
 ly. With great food, games and prizes, there is a little something for
  everyone. First 400 cars get a goody bag worth over $30. All proceeds
  of the event to benefit local and national charities including the Ch
 ildren’s Miracle Network.\n\nClass 1 – Production thru 1939\n\nCla
 ss 2 – 1940-50 Production\n\nClass 3 – 1951-60 Production\n\nClass
  4 – 1961-70 Production\n\nClass 5 – 1971-80 Production\n\nClass 6
  – 1981-90 Production\n\nClass 7 – 1991-2010 Production\n\nClass 8
  – Mustangs 1964-78\n\nClass 9 – Mustangs 1979-present\n\nClass 10
  – Camaro/Firebird 1967-81\n\nClass 11 – Camaro/Firebird 1982-pres
 ent\n\nClass 12 – Special Interest\n\nClass 13 – Foreign thru 1985
 \n\nClass 14 – Foreign 1985-present\n\nClass 15 – C1 & C2 Corvette
 s\n\nClass 16 – C3 & C4 Corvettes\n\nClass 17 – C5 & C6 Corvettes\
 n\nClass 18 – Trucks\n\nClass 19 – Street Rods thru 1948\n\nClass 
 20 – Rat Rods\n\nClass 21 – Muscle Cars\n\nClass 22 – PT Cruiser
 s\n\nClass 23 – Tuners\n\nClass 24 – Motorcycles\n\nOther Awards:\
 n\nBest in Show - $150\n\nBest Ford/Lincoln/Mercury $100\n\nBest Gener
 al Motors $100\n\nBest Mopar $100\n\nBest Street Rod $100\n\nBest Inte
 rior $100\n\nBest Paint $100\n\nBest Engine $100\n\nClub Participation
  $50\n\nEvent Contact:\n\nFor more information visit https://northeast
 wheelsevents.com/events/the-27th-annual-car-show
DTSTART:20100801T120000Z
DTEND:20100801T190000Z
CATEGORIES:car, show
LOCATION:Lee Town Park,
WEBSITE:http://www.rockininthepark.com
URL:http://www.rockininthepark.com
CONTACT:(315) 338-8114
ORGANIZER:Kelly La Salle
ATTACH;FMTTYPE="image/jpeg":
ATTENDEE;ROLE=REQ-PARTICIPANT;PARTSTAT=ACCEPTED;RSVP=TRUE;CN="Richard 
 Scott":https://northeastwheelsevents.com/profile/RichardScott
END:VEVENT
END:VCALENDAR
