BEGIN:VCALENDAR
PRODID:NingEventWidget-v1
VERSION:2.0
METHOD:PUBLISH
BEGIN:VEVENT
UID:5167423:Event:317481
DTSTAMP:20260422T035415Z
SUMMARY:The 34th Annual Adirondack Nationals Show
DESCRIPTION:The 34th Annual Adirondack Nationals runs from September 7
 -10, 2023. It is at the Fort Wiiliam Henry in Lake George, NY. Sponsor
 ed by the Albany Rods and Kustoms (ARK). Charity this year is Kelly's 
 Angels, Inc. Last year we had 1500 vehicles in show. Celebrity Events,
  \"Iron Resurrection \", with Joe and Amanda Martin, and \"My Classic 
 Car\" with Dennis Gage. Canada Street at night on Friday and Saturday,
   is blocked off for cruising, other activities include: kids games, 
 flea market, food, fireworks, women's activities, 50/50 raffles, and m
 uch more. Many other activities in town, from Boat tours to mini golf.
  Find more at Visitlakegeorge.com. \n\nFor more information visit htt
 ps://northeastwheelsevents.com/events/the-34th-annual-adirondack-natio
 nals-show
DTSTART:20230907T110000Z
DTEND:20230911T020000Z
CATEGORIES:car, show, cruise, in, fundraiser
LOCATION:Fort William Henry Resort.
WEBSITE:Http://www.adirondacknationals.com
URL:Http://www.adirondacknationals.com
CONTACT:518-416-7387
ORGANIZER:Albany Rod and Kustoms
ATTACH;FMTTYPE="image/jpeg":https://storage.ning.com/topology/rest/1.0
 /file/get/12151720286?profile=original
ATTENDEE;ROLE=REQ-PARTICIPANT;PARTSTAT=ACCEPTED;RSVP=TRUE;CN="steve sw
 oren":https://northeastwheelsevents.com/profile/stevesworen
ATTENDEE;ROLE=REQ-PARTICIPANT;PARTSTAT=ACCEPTED;RSVP=TRUE;CN="William 
 Bruce":https://northeastwheelsevents.com/profile/WilliamBruce
ATTENDEE;ROLE=REQ-PARTICIPANT;PARTSTAT=ACCEPTED;RSVP=TRUE;CN="Ronnie B
 ujtas":https://northeastwheelsevents.com/profile/RonnieBujtas
ATTENDEE;ROLE=REQ-PARTICIPANT;PARTSTAT=TENTATIVE;RSVP=TRUE;CN="Stephen
  Porter":https://northeastwheelsevents.com/profile/StephenPorter
END:VEVENT
END:VCALENDAR
