BEGIN:VCALENDAR
PRODID:NingEventWidget-v1
VERSION:2.0
METHOD:PUBLISH
BEGIN:VEVENT
UID:5167423:Event:174636
DTSTAMP:20260425T174228Z
SUMMARY:The 6th Annual AHRMA Vintage Motorcycle Festival & Swap Meet
DESCRIPTION:The 6th Annual AHRMA Vintage Motorcycle Festival featuri
 ng Vintage Motorcycle Racing, Swap Meet, Food Trucks, Craft Vendors, L
 ive Music and more kicks off Friday, July 14 – 16. The American Hist
 oric Racing Motorcycle Association  (AHRMA) is a not-for-profit organ
 ization dedicated to restoring and competing on classic motorcycles. W
 ith about 3,000 members, AHRMA is the largest vintage racing group in 
 North America and one of the biggest in the world. The Swap Meet will 
 feature a 60,000 square foot Swap Meet full of parts, bikes, merchandi
 se, and collectibles.\n\nFor more information visit https://northeastw
 heelsevents.com/events/the-6th-annual-ahrma-vintage-motorcycle-festiva
 l-amp-swap-meet
DTSTART:20180713T120000Z
DTEND:20180715T230000Z
CATEGORIES:swap, meet
LOCATION:New Jersey Motorsports Park
WEBSITE:http://www.njmp.com/
URL:http://www.njmp.com/
CONTACT:(856)-327-8000
ORGANIZER:American Historic Motorcycle Association
ATTACH;FMTTYPE="image/jpeg":http://storage.ning.com/topology/rest/1.0/
 file/get/2284092474?profile=original
ATTENDEE;ROLE=REQ-PARTICIPANT;PARTSTAT=ACCEPTED;RSVP=TRUE;CN="Aaron Ha
 wkinns":https://northeastwheelsevents.com/profile/AaronHawkinns
END:VEVENT
END:VCALENDAR
