BEGIN:VCALENDAR
PRODID:NingEventWidget-v1
VERSION:2.0
METHOD:PUBLISH
BEGIN:VEVENT
UID:5167423:Event:100724
DTSTAMP:20260424T175213Z
SUMMARY:The Albany Auto Show
DESCRIPTION:The Area's largest NEW car show, featuring over 30 differe
 nt manufacturers with more than 150 vehicles!\n\nFor more information 
 visit https://northeastwheelsevents.com/events/the-albany-auto-show-3
DTSTART:20161104T150000Z
DTEND:20161106T220000Z
CATEGORIES:car, show
LOCATION:The Times Union Center
WEBSITE:http://www.AlbanyAutoShows.com
URL:http://www.AlbanyAutoShows.com
CONTACT:5184520584
ORGANIZER;CN="Kim Perrella":https://northeastwheelsevents.com/profile/
 KimPerrella
ATTACH;FMTTYPE="image/jpeg":http://storage.ning.com/topology/rest/1.0/
 file/get/2284080126?profile=original
ATTENDEE;ROLE=REQ-PARTICIPANT;PARTSTAT=ACCEPTED;RSVP=TRUE;CN="Kim Perr
 ella":https://northeastwheelsevents.com/profile/KimPerrella
END:VEVENT
END:VCALENDAR
