BEGIN:VCALENDAR
PRODID:NingEventWidget-v1
VERSION:2.0
METHOD:PUBLISH
BEGIN:VEVENT
UID:5167423:Event:123738
DTSTAMP:20260421T081301Z
SUMMARY:The Austin Healey Sports & Touring Club Encounter 2016 New Cas
 tle, DE
DESCRIPTION:tours, autocross,rally and car show on Saturday. Call for 
 complete information.\n\nFor more information visit https://northeastw
 heelsevents.com/events/the-austin-healey-sports-touring-club-encounter
 -2016-new-castle-d
DTSTART:20160811T040000Z
DTEND:20160814T035900Z
CATEGORIES:austin, healey, gathering
LOCATION:Sheraton Wilmington South
WEBSITE:http://www.austin-healey-stc.org/
URL:http://www.austin-healey-stc.org/
CONTACT:
ORGANIZER:The Austin Healey Sports & Touring Club
ATTACH;FMTTYPE="image/jpeg":http://storage.ning.com/topology/rest/1.0/
 file/get/2284088730?profile=original
ATTENDEE;ROLE=REQ-PARTICIPANT;PARTSTAT=ACCEPTED;RSVP=TRUE;CN="Pamela H
 irschhorn":https://northeastwheelsevents.com/profile/PamelaHirschhorn
END:VEVENT
END:VCALENDAR
