BEGIN:VCALENDAR
PRODID:NingEventWidget-v1
VERSION:2.0
METHOD:PUBLISH
BEGIN:VEVENT
UID:5167423:Event:142916
DTSTAMP:20260423T034524Z
SUMMARY:The British Invade Gettysburg
DESCRIPTION:British Invade Gettysburg, a non judged all British car sh
 ow, welcoming cars, trucks, and motorcycles, sponsored by the LANCO M
 G Club, and supporting a local charity to be determined,  Sunday, Jul
 y 9, 2017 at The Outlet Shoppes at Gettysburg, 1863 Gettysburg Villag
 e Drive, Gettysburg, Pennsylvania.  9:00 AM to 1:00 PM.  Contact lan
 cobig@gmail.com.  Pre-registration form and other information at www.
 lancomgclub.com . \n \n \n\nFor more information visit https://nort
 heastwheelsevents.com/events/the-british-invade-gettysburg
DTSTART:20170709T130000Z
DTEND:20170709T170000Z
CATEGORIES:british, car, show
LOCATION:The Outlet Shoppes
WEBSITE:http://www.lancomgclub.com
URL:http://www.lancomgclub.com
CONTACT:717 259 6324
ORGANIZER;CN="Robert Arlotto":https://northeastwheelsevents.com/profil
 e/RobertArlotto
ATTACH;FMTTYPE="image/jpeg":
ATTENDEE;ROLE=REQ-PARTICIPANT;PARTSTAT=ACCEPTED;RSVP=TRUE;CN="Robert A
 rlotto":https://northeastwheelsevents.com/profile/RobertArlotto
END:VEVENT
END:VCALENDAR
