BEGIN:VCALENDAR
PRODID:NingEventWidget-v1
VERSION:2.0
METHOD:PUBLISH
BEGIN:VEVENT
UID:5167423:Event:229542
DTSTAMP:20260421T144032Z
SUMMARY:The Car Detective - More Discovery Stories! Demo Day at The Si
 meone Museum!
DESCRIPTION:A scrap of paper, maybe an old license plate number or new
 spaper ad... What does it take to be a real Car Detective? Join us on 
 January 26th for our first Demo Day of the New Year and discover for y
 ourself!\n\"The Car Detective - More Discovery Stories\" will relay th
 e stories behind some of Dr. Simeone's greatest finds. Featured collec
 tion cars include ---\n\nStutz 4 Passenger Black Hawk Challenger\nDues
 enberg French GP\nMercedes- Benz 300SL\nBMW 328\n\nAll scheduled Demo 
 Day events typically follow the timeline set out below ---\n10:00 AM -
  Doors open\n11:00 AM - Scrutineering (pre-Demo Day technical talk) wi
 th Rick Adams, Director of Education\n12:00 PM - Demo Day discussion, 
 Q and A with Dr. Simeone\n12:30 PM - Featured car driving demonstratio
 ns\n1:15 PM - Visitors are given the opportunity to inspect and photog
 raph featured cars in close proximity while further engaging with Sime
 one Museum staff and volunteers\n\n\nFor more information visit https:
 //northeastwheelsevents.com/events/the-car-detective-more-discovery-st
 ories-demo-day-at-the-simeone
DTSTART:20190126T150000Z
DTEND:20190126T210000Z
CATEGORIES:demo, day
LOCATION:The Simeone Museum
WEBSITE:https://www.eventbrite.com/e/the-car-detective-more-discovery-
 stories-tickets-54117740619?aff=ebdssbdestsearch
URL:https://www.eventbrite.com/e/the-car-detective-more-discovery-stor
 ies-tickets-54117740619?aff=ebdssbdestsearch
CONTACT:12153657233
ORGANIZER;CN="The Simeone Museum":https://northeastwheelsevents.com/pr
 ofile/TheSimeoneMuseum
ATTACH;FMTTYPE="image/jpeg":https://storage.ning.com/topology/rest/1.0
 /file/get/529743356?profile=original
ATTENDEE;ROLE=REQ-PARTICIPANT;PARTSTAT=ACCEPTED;RSVP=TRUE;CN="The Sime
 one Museum":https://northeastwheelsevents.com/profile/TheSimeoneMuseum
END:VEVENT
END:VCALENDAR
