BEGIN:VCALENDAR
PRODID:NingEventWidget-v1
VERSION:2.0
METHOD:PUBLISH
BEGIN:VEVENT
UID:5167423:Event:336941
DTSTAMP:20260423T215114Z
SUMMARY:The Cohocton Vintage Snowmobile Show The Fall Classic
DESCRIPTION:The 8th annual Fall Classic Vintage Snowmobile Show will b
 e held Sunday, October 5th, 2025 at the school in Cohocton, NY during 
 the 60th annual Fall Foliage Festival. Featured sleds will be John Dee
 re and classes will include restored, original, junkyard dog, and more
 . For more information contact: Jim at (607) 382-0948 or Jerry at (585
 ) 781-4992 Or find us on FB at: The Cohocton Vintage Snowmobile Show o
 r Jim Van Wormer at vanwormerjim@yahoo.com for info. To find and post 
 shows for 2025, check https://vintagesleds.com/events/\r\nThis is inc
 onjuction with the Cohocton's annual Fall Foliage Festival, which bega
 n in 1966, is a community event in which the residents of Cohocton 
 and neighboring communities gather to celebrate the magnificent surr
 ounding hills in all of its colorful splendor. We have many arts, 
 crafts, flea market, antique and food vendors located on the Town and
  Village greens, 15 South Main Street, Cohocton, New York.\r\nOn Sund
 ay we are hosting the Antique Tractor Show, annual Fall Classic Anti
 que & Vintage Snowmobile Show and Fall Classic Car Show(info. posted
  soon).  \r\nThese exhibits will be held in the Wayland-Cohocton 
 Elementary School parking lot on Park Ave. \r\nThere will also be a p
 arade (Saturday at noon), live music in the gazebo, and free horse dra
 wn wagon rides Saturday and Sunday afternoon! \r\n  Plenty of fun 
 for the whole family!\n\nFor more information visit https://northeastw
 heelsevents.com/events/the-cohocton-vintage-snowmobile-show-the-fall-c
 lassic
DTSTART:20251005T130000Z
DTEND:20251005T200000Z
CATEGORIES:snowmobileshow
LOCATION:Cohocton NY School
WEBSITE:https://vintagesleds.com/events/
URL:https://vintagesleds.com/events/
CONTACT:607-382-0948
ORGANIZER:Quad County Snowmobile Club in Steuben County, New York
ATTACH;FMTTYPE="image/jpeg":https://storage.ning.com/topology/rest/1.0
 /file/get/13401632662?profile=original
ATTENDEE;ROLE=REQ-PARTICIPANT;PARTSTAT=ACCEPTED;RSVP=TRUE;CN="William 
 Bruce":https://northeastwheelsevents.com/profile/WilliamBruce
END:VEVENT
END:VCALENDAR
