BEGIN:VCALENDAR
PRODID:NingEventWidget-v1
VERSION:2.0
METHOD:PUBLISH
BEGIN:VEVENT
UID:5167423:Event:37067
DTSTAMP:20260424T091505Z
SUMMARY:The Elegance At Hershey
DESCRIPTION:GPS: 100 Hotel Road, Hershey, PA\nSpecial Guest:  Robert 
 “Bob” Lutz  \nSeventy-five magnificent pieces of rolling art dis
 played throughout the magnificent gardens of the Hotel Hershey.  See 
 Rolls-Royce, Renault, Brewster, Lincoln and so much more, a Concours e
 vent featuring lifestyle displays, automotive art.  Event offers a ra
 re and unique way to view automotive history. Allows spectators to loo
 k inside vehicles, meet owners, and learn details about the vehicle’
 s heritage.    9 a.m.  to 5 p.m. , admission $25/ person includes 
 beautiful event program; Children ages 15 and under FREE.  Event rais
 es funds for JDRF, AACA Museum and AACA Library\n\nFor more informatio
 n visit https://northeastwheelsevents.com/events/the-elegance-at-hersh
 ey-2
DTSTART:20140615T130000Z
DTEND:20140615T210000Z
CATEGORIES:car, show
LOCATION:The Hotel Hershey
WEBSITE:http://www.TheEleganceAtHershey.com
URL:http://www.TheEleganceAtHershey.com
CONTACT:717-619-1118
ORGANIZER;CN="The Elegance At Hershey":https://northeastwheelsevents.c
 om/profile/TheEleganceAtHershey
ATTACH;FMTTYPE="image/jpeg":
ATTENDEE;ROLE=REQ-PARTICIPANT;PARTSTAT=ACCEPTED;RSVP=TRUE;CN="The Eleg
 ance At Hershey":https://northeastwheelsevents.com/profile/TheElegance
 AtHershey
END:VEVENT
END:VCALENDAR
