BEGIN:VCALENDAR
PRODID:NingEventWidget-v1
VERSION:2.0
METHOD:PUBLISH
BEGIN:VEVENT
UID:5167423:Event:243942
DTSTAMP:20260423T051448Z
SUMMARY:The Elegance at Hershey
DESCRIPTION:The Elegance is an automotive garden party featuring the w
 orld’s finest collector vintage and antique cars, arrayed around th
 e manicured formal gardens of The Hotel Hershey.\nCar owners, and th
 ose who adore their cars, gather for a day of mutual admiration and re
 laxed camaraderie while special guest judges review and critique the p
 articipants’ cars.\n\nFor more information visit https://northeastwh
 eelsevents.com/events/the-elegance-at-hershey-3
DTSTART:20190609T130000Z
DTEND:20190609T200000Z
CATEGORIES:vintage, auto, show
LOCATION:The Hotel Hershey
WEBSITE:https://theeleganceathershey.com/
URL:https://theeleganceathershey.com/
CONTACT:7175005191
ORGANIZER;CN="The Elegance at Hershey":https://northeastwheelsevents.c
 om/profile/TheEleganceatHershey232
ATTACH;FMTTYPE="image/jpeg":
ATTENDEE;ROLE=REQ-PARTICIPANT;PARTSTAT=ACCEPTED;RSVP=TRUE;CN="The Eleg
 ance at Hershey":https://northeastwheelsevents.com/profile/TheElegance
 atHershey232
END:VEVENT
END:VCALENDAR
