BEGIN:VCALENDAR
PRODID:NingEventWidget-v1
VERSION:2.0
METHOD:PUBLISH
BEGIN:VEVENT
UID:5167423:Event:20987
DTSTAMP:20260423T202840Z
SUMMARY:The Elegance at Hershey
DESCRIPTION:June 14-16 Weekend of Events at The Hotel Hershey® Featur
 es Some of the Best Vintage Race Cars and Finest Collector Automobiles
  in the World, All to Raise Money for Charity\n\nIn its relative short
  two-year history, The Elegance at Hershey has gained a growing reputa
 tion as one of the most unique vintage and antique car events in the c
 ountry, bringing together some of the world's finest collector cars to
  \"The Sweetest Place on Earth\", all in the name of some very deservi
 ng charities. \n\"The Elegance at Hershey, at the historic Hotel Hers
 hey®, features, a once in-a-lifetime opportunity for many to see exqu
 isite automobile art in the unique setting of the formal gardens at Th
 e Hotel Hershey®, \n\"Families in particular will enjoy seeing some 
 of the cars on our show field, all of which are new this year to The E
 legance at Hershey concours.\nWith a show field limited to no more tha
 n 60 of \"the crème de la crème\" of the automobile world, the Elega
 nce strives to present some of the finest cars from every era. Attende
 es will have an opportunity to see a 1928 Gardner 85 Sports Roadster. 
 One of an estimated 800 produced, the car coming to The Elegance is on
 ly model said to still exist. \nAlso on display is a rare 1933 Duesen
 berg SJ Beverly Sedan, a remarkable and authentic example of an enclos
 ed Duesenberg with only five enclosed SJ's ever made.  The car has re
 tained its original body and engine and its entire history is document
 ed. \nLater model aficionados will not be disappointed, as The Elegan
 ce displays a 1959 Ferrari Cabriolet by Pininfarina. One of only 40 bu
 ilt, the car was originally owned by Georges Filipinetti, of Geneva, S
 witzerland, founder of Scuderia Filipinetti, the renowned racing team 
 of the 1960's.  \nThe Sunday June 16 concours is preceded by two day
 s of vintage car hill climb competition.  On Friday and Saturday June
  14 and 15, more than 40 vintage race cars roar up the challenging Her
 shey Hill Climb Course in a VSCCA-sanctioned exhibition that affords s
 pectators an opportunity to see great classic racing machines and thei
 r drivers in an intimate setting. \nThe Elegance at Hershey also feat
 ures a special themed dinner and silent auction Saturday June 16 in th
 e ballroom at The Hotel Hershey ®.  Titled \"French Curves; A Tribut
 e to Lemans,\" the Elegance celebration  includes a display of cars t
 hat competed in the famous 24 Hours of LeMans, a special menu, drinks,
  desserts and entertainment with a French Flair. \nA $25 entrant fee 
 benefits the Elegance at Hershey Charities. \nAdvance tickets to the 
 Elegance events are available now atwww.TheEleganceAtHershey.com. \n\
 n\nFor more information visit https://northeastwheelsevents.com/events
 /the-elegance-at-hershey
DTSTART:20130614T120000Z
DTEND:20130616T220000Z
CATEGORIES:concourse, and, vintage, hill, climb
LOCATION:Hershey Hotel, Hershey,PA
WEBSITE:http://www.TheEleganceAtHershey.com.
URL:http://www.TheEleganceAtHershey.com.
CONTACT:717-534-1910
ORGANIZER:Joe Benish
ATTACH;FMTTYPE="image/jpeg":http://storage.ning.com/topology/rest/1.0/
 file/get/2284050276?profile=original
ATTENDEE;ROLE=REQ-PARTICIPANT;PARTSTAT=ACCEPTED;RSVP=TRUE;CN="Pamela H
 irschhorn":https://northeastwheelsevents.com/profile/PamelaHirschhorn
END:VEVENT
END:VCALENDAR
