BEGIN:VCALENDAR
PRODID:NingEventWidget-v1
VERSION:2.0
METHOD:PUBLISH
BEGIN:VEVENT
UID:5167423:Event:46137
DTSTAMP:20260423T111144Z
SUMMARY:The Elegance & Grand Ascent at Hershey
DESCRIPTION:The Elegance is a weekend-long schedule of activities that
  includes:  The Grand Ascent, a challenging automobile hill climb app
 ealing to many that love to see history in motion; The Elegance Challe
 nge, a 5K that begins with a 200-foot elevation rise over 7-tenths of 
 a mile; and The Elegance at Hershey, a judged Concours d’Elegance fe
 aturing 75 of the World’s rarest vehicles. The 5K Elegance Challenge
  run is a timed runners’ race (please, no walkers) up the challengin
 g Grand Ascent hill climb course! With a 7/10-mile steep uphill first 
 leg, continuing back to the start line area. For additional details an
 d to register please visit http://theeleganceathershey.com/event/the-f
 un-run/ .\n \nEnjoy a Grand weekend at one of Hershey's top event of 
 the year.\n \nDate:\nFriday June 13- Sunday June 15.\n \nVisit www.T
 heEleganceatHershey.com for a complete list of all the details.\n\nFor
  more information visit https://northeastwheelsevents.com/events/the-e
 legance-grand-ascent-at-hershey
DTSTART:20140613T140000Z
DTEND:20140615T200000Z
CATEGORIES:car, show
LOCATION:The Hotel Hershey, 100 Hotel Rd, Hershey PA 17033
WEBSITE:http://theeleganceathershey.com/
URL:http://theeleganceathershey.com/
CONTACT:717-534-1910
ORGANIZER:The Elegance At Hershey
ATTACH;FMTTYPE="image/jpeg":http://storage.ning.com/topology/rest/1.0/
 file/get/2284059608?profile=original
ATTENDEE;ROLE=REQ-PARTICIPANT;PARTSTAT=ACCEPTED;RSVP=TRUE;CN="AACA Mus
 eum":https://northeastwheelsevents.com/profile/AACAMuseum941
END:VEVENT
END:VCALENDAR
