BEGIN:VCALENDAR
PRODID:NingEventWidget-v1
VERSION:2.0
METHOD:PUBLISH
BEGIN:VEVENT
UID:5167423:Event:144708
DTSTAMP:20260423T193458Z
SUMMARY:The Empire Galaxie Club’s 11th Annual Spring Breakout Cruise
DESCRIPTION:\n\nFor more information visit https://northeastwheelseven
 ts.com/events/the-empire-galaxie-club-s-11th-annual-spring-breakout-cr
 uise
DTSTART:20170409T120000Z
DTEND:20170409T200000Z
CATEGORIES:cruise
LOCATION:Multiplex parking lot, Farmingdale
WEBSITE:http://empiregalaxies.weebly.com/event-info.html
URL:http://empiregalaxies.weebly.com/event-info.html
CONTACT:516 860-9309 or 631 724-6231
ORGANIZER;CN="Alex Martin":https://northeastwheelsevents.com/profile/A
 lexmartin
ATTACH;FMTTYPE="image/jpeg":http://storage.ning.com/topology/rest/1.0/
 file/get/2284098001?profile=original
ATTENDEE;ROLE=REQ-PARTICIPANT;PARTSTAT=ACCEPTED;RSVP=TRUE;CN="Alex Mar
 tin":https://northeastwheelsevents.com/profile/Alexmartin
END:VEVENT
END:VCALENDAR
