BEGIN:VCALENDAR
PRODID:NingEventWidget-v1
VERSION:2.0
METHOD:PUBLISH
BEGIN:VEVENT
UID:5167423:Event:329967
DTSTAMP:20260421T110134Z
SUMMARY:The Falls Village Car & Motorcycle Show
DESCRIPTION:A really big show in a really small town! Muscle cars, ant
 iques, streetrods, racecars, exotics, trucks, bikes, and more! Sunday,
  July 14, 2024. Located in a quaint village center, minutes from Lime 
 Rock Racetrack. Food, vendors, live music, and more! Trophies, dash pl
 aques first 100 registrations. No pre-registration. $10 vehicle Regist
 ration at gate, Spectators free! Benefit The Falls Village Vol. Fire D
 ept.. Featured on My Classic Car TV Show.\r\nhttps://ctexaminer.com/ev
 ents/falls-village-car-motorcycle-show for more info. \r\n-\n\nFor mo
 re information visit https://northeastwheelsevents.com/events/the-fall
 s-village-car-motorcycle-show-1
DTSTART:20240714T140000Z
DTEND:20240714T200000Z
CATEGORIES:fundraiser, carshow
LOCATION:Downtown Falls Village
WEBSITE:https://www.facebook.com/The-Falls-Village-Car-Motorcycle-Show
 -108276915923197/
URL:https://www.facebook.com/The-Falls-Village-Car-Motorcycle-Show-108
 276915923197/
CONTACT:860-824-5861
ORGANIZER:Judy Jacobs
ATTACH;FMTTYPE="image/jpeg":https://storage.ning.com/topology/rest/1.0
 /file/get/12701762072?profile=original
ATTENDEE;ROLE=REQ-PARTICIPANT;PARTSTAT=ACCEPTED;RSVP=TRUE;CN="William 
 Bruce":https://northeastwheelsevents.com/profile/WilliamBruce
END:VEVENT
END:VCALENDAR
