BEGIN:VCALENDAR
PRODID:NingEventWidget-v1
VERSION:2.0
METHOD:PUBLISH
BEGIN:VEVENT
UID:5167423:Event:345039
DTSTAMP:20260424T161313Z
SUMMARY:The Fast and the Furriest- Pawkyo Drift.
DESCRIPTION:The Fast and the Furriest- Pawkyo Drift. Saturday 6/27/26 
 Rain Date: Sunday, 6/28/26. \r\nRegistration: 8am-10am. Show 10am-2pm
 . $20 Registration. \r\nFeaturing: Custom Trophies! \r\nDJ/Music! \
 r\nVendors! \r\nPet adoption event. \r\nAwsome home cooked food. \r
 \n\n\nFor more information visit https://northeastwheelsevents.com/eve
 nts/the-fast-and-the-furriest-pawkyo-drift
DTSTART:20260627T120000Z
DTEND:20260627T180000Z
CATEGORIES:carshow, benefit
LOCATION:Murray Grove Retreat &amp; Renewal Center
WEBSITE:https://www.jerseyshorecarshows.com/
URL:https://www.jerseyshorecarshows.com/
CONTACT:609-693-5558
ORGANIZER:Jersey Shore Car Shows
ATTACH;FMTTYPE="image/jpeg":https://storage.ning.com/topology/rest/1.0
 /file/get/13725819691?profile=original
ATTENDEE;ROLE=REQ-PARTICIPANT;PARTSTAT=ACCEPTED;RSVP=TRUE;CN="William 
 Bruce":https://northeastwheelsevents.com/profile/WilliamBruce
END:VEVENT
END:VCALENDAR
