BEGIN:VCALENDAR
PRODID:NingEventWidget-v1
VERSION:2.0
METHOD:PUBLISH
BEGIN:VEVENT
UID:5167423:Event:348998
DTSTAMP:20260423T174652Z
SUMMARY:The First Pitch Car Show
DESCRIPTION:The First Pitch Car Show on April 18, 2026, at Westland H
 ills in Albany, NY, kicks off the car season, benefiting local youth b
 aseball and softball with music, food, trophies, and a low-car limbo c
 ontest. The event welcomes all makes and models, offering a community-
 focused season opener with proceeds supporting field improvements.Come
  support the kids and the fields they play on.we will have trophies mu
 sic food and low car limbo contest. All judging will be done by park o
 fficials.This event is for All Makes and models.\r\nCost: $10 for sho
 w cars; spectators are free. Registration ends at 2pm Low Car Limbo co
 ntest 3pm Trophies 4:15pm  No 2 step! No loud music! Be respectful.\r\
 n\r\nhttps://www.westlandhills.com/\r\nAll Makes and models.Also we wo
 uld like some classic cars from the 50’s to 70’s for the show and 
 our parade in the upcoming week. Any non food vendors interested in at
 tending please contact. Show cars try to be there early.\n\nFor more i
 nformation visit https://northeastwheelsevents.com/events/the-first-pi
 tch-car-show
DTSTART:20260418T160000Z
DTEND:20260418T210000Z
CATEGORIES:carshow, benefit
LOCATION:Westland Hills Baseball and Softball
WEBSITE:https://allevents.in/albany/first-pitch-car-show/2000295120266
 17
URL:https://allevents.in/albany/first-pitch-car-show/200029512026617
CONTACT:518-459-6320
ORGANIZER:Westland Hills Baseball and Softball
ATTACH;FMTTYPE="image/jpeg":https://storage.ning.com/topology/rest/1.0
 /file/get/31125563482?profile=original
ATTENDEE;ROLE=REQ-PARTICIPANT;PARTSTAT=ACCEPTED;RSVP=TRUE;CN="William 
 Bruce":https://northeastwheelsevents.com/profile/WilliamBruce
END:VEVENT
END:VCALENDAR
