BEGIN:VCALENDAR
PRODID:NingEventWidget-v1
VERSION:2.0
METHOD:PUBLISH
BEGIN:VEVENT
UID:5167423:Event:102003
DTSTAMP:20260425T123152Z
SUMMARY:The Grand Ascent
DESCRIPTION:The Elegance at Hershey has brought back the historic hill
  climb with a weekend where we endeavor to recreate the look and feel 
 of the early days of the sport. Modeled, in part, on the previous Hers
 hey climbs and the famed Goodwood Festival of Speed, mostly pre-war ca
 rs sanctioned by the Vintage Sports Car Club of America (VSCCA) entert
 ain our guests for a weekend of speed exhibitions. VSCCA is an integra
 l part of bringing our hill climb back to life.\nThe Elegance at Hersh
 ey provides for grandstands at the start and near the finish line alon
 g with a trail up the hill where spectators can watch and enjoy the ca
 rs during runs on Friday and Saturday. Each day during the noon hours 
 our guests can experience the fun of a race car by purchasing charity 
 rides in the actual cars racing! Based upon the miles of smiles this h
 as become one of the most popular features during the weekend.\nWe hav
 e a food court and vendors stationed at the start of the course which 
 also provide more entertainment and nourishment for our guests. In 201
 6, there will be more activities in this area than ever so make sure y
 ou make plans to attend this event. Purchase tickets online at www.th
 eeleganceathershey.com\n\nFor more information visit https://northeast
 wheelsevents.com/events/the-grand-ascent-2
DTSTART:20160611T130000Z
DTEND:20160611T200000Z
CATEGORIES:antique, car, race
LOCATION:Boathouse Road off Rt 39
WEBSITE:https://www.google.com/maps/place/40%C2%B017'28.6%22N+76%C2%B0
 40'13.3%22W/@40.2912731,-76.672564,17z/data=!3m1!4b1!4m2!3m1!1s0x0:0x0
URL:https://www.google.com/maps/place/40%C2%B017'28.6%22N+76%C2%B040'1
 3.3%22W/@40.2912731,-76.672564,17z/data=!3m1!4b1!4m2!3m1!1s0x0:0x0
CONTACT:717-534-1910
ORGANIZER;CN="Don Stabilito":https://northeastwheelsevents.com/profile
 /DonStabilito
ATTACH;FMTTYPE="image/jpeg":http://storage.ning.com/topology/rest/1.0/
 file/get/2284082310?profile=original
ATTENDEE;ROLE=REQ-PARTICIPANT;PARTSTAT=ACCEPTED;RSVP=TRUE;CN="Don Stab
 ilito":https://northeastwheelsevents.com/profile/DonStabilito
END:VEVENT
END:VCALENDAR
