BEGIN:VCALENDAR
PRODID:NingEventWidget-v1
VERSION:2.0
METHOD:PUBLISH
BEGIN:VEVENT
UID:5167423:Event:246546
DTSTAMP:20260421T003201Z
SUMMARY:The Grand Ascent A Revival of The Hershey Hill Climb
DESCRIPTION:Featuring vintage race cars, a vendors' midway, special ca
 r exhibits food and more!\n\nFor more information visit https://northe
 astwheelsevents.com/events/the-grand-ascent-a-revival-of-the-hershey-h
 ill-climb
DTSTART:20190607T130000Z
DTEND:20190608T200000Z
CATEGORIES:vintage, hill, climb
LOCATION:Hotel Hershey
WEBSITE:https://theeleganceathershey.com/event/schedule-of-events/
URL:https://theeleganceathershey.com/event/schedule-of-events/
CONTACT:(717) 500-5191
ORGANIZER:The Elegance at Hershey
ATTACH;FMTTYPE="image/jpeg":https://storage.ning.com/topology/rest/1.0
 /file/get/2744692782?profile=original
ATTENDEE;ROLE=REQ-PARTICIPANT;PARTSTAT=ACCEPTED;RSVP=TRUE;CN="Car Show
 s Little Helper":https://northeastwheelsevents.com/profile/CarShowsLit
 tleHelper
END:VEVENT
END:VCALENDAR
