BEGIN:VCALENDAR
PRODID:NingEventWidget-v1
VERSION:2.0
METHOD:PUBLISH
BEGIN:VEVENT
UID:5167423:Event:148889
DTSTAMP:20260423T020636Z
SUMMARY:The Grand Ascent - Vintage Car Hill Climb
DESCRIPTION:Modeled, in part, on the previous Hershey climbs and the f
 amed Goodwood Festival of Speed, mostly pre-war cars sanctioned by the
  Vintage Sports Car Club of America (VSCCA) entertain our guests for a
  weekend of speed exhibitions. VSCCA is an integral part of bringing o
 ur hill climb back to life.\n\nFor more information visit https://nort
 heastwheelsevents.com/events/the-grand-ascent-vintage-car-hill-climb
DTSTART:20170609T130000Z
DTEND:20170610T200000Z
CATEGORIES:vintage, hill, climb
LOCATION:Hershey Hotel Hill Climb Course
WEBSITE:http://theeleganceathershey.com/event/
URL:http://theeleganceathershey.com/event/
CONTACT:(717) 534-1910 Fax: (717) 534-9101
ORGANIZER:AACA
ATTACH;FMTTYPE="image/jpeg":
ATTENDEE;ROLE=REQ-PARTICIPANT;PARTSTAT=ACCEPTED;RSVP=TRUE;CN="Pamela H
 irschhorn":https://northeastwheelsevents.com/profile/PamelaHirschhorn
END:VEVENT
END:VCALENDAR
