BEGIN:VCALENDAR
PRODID:NingEventWidget-v1
VERSION:2.0
METHOD:PUBLISH
BEGIN:VEVENT
UID:5167423:Event:64878
DTSTAMP:20260421T085545Z
SUMMARY:The Grand Ascent
DESCRIPTION:Friday June 12 The Grand Ascent A Vintage Hill Climb 10:00
  AM – 4:00 PM Located on the challenging Hershey Hill Climb Course b
 ehind the historic Hotel Hershey, The Grand Ascent is a two day vintag
 e hill climb exhibition sanctioned by the Vintage Sports Car Club of A
 merica (VSCCA). This exciting hill climb expedition appeals to enthusi
 asts and curious spectators alike. Stop by to shop our vendor’s midw
 ay, see special car exhibits, ride in a vintage race car and more!\n\n
 For more information visit https://northeastwheelsevents.com/events/th
 e-grand-ascent
DTSTART:20150612T140000Z
DTEND:20150612T200000Z
CATEGORIES:car, show
LOCATION:The Hotel Hershey
WEBSITE:http://theeleganceathershey.com/
URL:http://theeleganceathershey.com/
CONTACT:7175341910
ORGANIZER:AACA
ATTACH;FMTTYPE="image/jpeg":http://api.ning.com:80/files/nNOqzuU--h8jq
 19*lKgg-7wTUzHXmIMW8D-drPdLjlB-LNipbM90BWycsr5iOAVYw4B1CbGvS8DvsJmGdDz
 DB*9yID-uCSOg/EleganceLogo_black2.jpg
ATTENDEE;ROLE=REQ-PARTICIPANT;PARTSTAT=ACCEPTED;RSVP=TRUE;CN="AACA Mus
 eum":https://northeastwheelsevents.com/profile/AACAMuseum553
END:VEVENT
END:VCALENDAR
