BEGIN:VCALENDAR
PRODID:NingEventWidget-v1
VERSION:2.0
METHOD:PUBLISH
BEGIN:VEVENT
UID:5167423:Event:137024
DTSTAMP:20260424T144401Z
SUMMARY:The Great Lehigh Valley Slot Car Show
DESCRIPTION:Buy, Sell and Trade Slot Cars, All types and manufactures:
  Aurora, Scaletrix, Revell, Wizard, Thunderjets, Fallers, Tyco and mor
 e.\nCALL FOR MORE INFORMATION\n\nFor more information visit https://no
 rtheastwheelsevents.com/events/the-great-lehigh-valley-slot-car-show
DTSTART:20161112T150000Z
DTEND:20161112T200000Z
CATEGORIES:slot, car, show
LOCATION:Merchants Square Mall Allentown PA
WEBSITE:http://www.valleygoto.com/
URL:http://www.valleygoto.com/
CONTACT:610-573-3695 (Between 11 AM - 10 PM)
ORGANIZER:Valley Rail Promotions
ATTACH;FMTTYPE="image/jpeg":
ATTENDEE;ROLE=REQ-PARTICIPANT;PARTSTAT=ACCEPTED;RSVP=TRUE;CN="Pamela H
 irschhorn":https://northeastwheelsevents.com/profile/PamelaHirschhorn
END:VEVENT
END:VCALENDAR
