BEGIN:VCALENDAR
PRODID:NingEventWidget-v1
VERSION:2.0
METHOD:PUBLISH
BEGIN:VEVENT
UID:5167423:Event:173965
DTSTAMP:20260424T000049Z
SUMMARY:The Inaugural NNL Philadelphia
DESCRIPTION:Saturday, 03/10/18 @ the Simeone Museum. A scale model car
  show. If you build plastic models as a kid, you might be surprised th
 at a bunch of us are still building them. Come on out and see where th
 e hobby has gone. Plus, the museum will be demonstration both off thei
 r GT40's. It should be a great time\n\nFor more information visit http
 s://northeastwheelsevents.com/events/the-inaugural-nnl-philadelphia
DTSTART:20180310T140000Z
DTEND:20180310T190000Z
CATEGORIES:model, car, show
LOCATION:Simeone Foundation Automotive Museum
WEBSITE:https://www.facebook.com/PACMSimeone/?ref=settings
URL:https://www.facebook.com/PACMSimeone/?ref=settings
CONTACT:
ORGANIZER;CN="Thomas R. Kortman":https://northeastwheelsevents.com/pro
 file/ThomasRKortman
ATTACH;FMTTYPE="image/jpeg":http://storage.ning.com/topology/rest/1.0/
 file/get/2284101236?profile=original
ATTENDEE;ROLE=REQ-PARTICIPANT;PARTSTAT=ACCEPTED;RSVP=TRUE;CN="Thomas R
 . Kortman":https://northeastwheelsevents.com/profile/ThomasRKortman
END:VEVENT
END:VCALENDAR
